Package: MetaVolcanoR Version: 1.14.0 Command: /Library/Frameworks/R.framework/Resources/bin/R CMD build --keep-empty-dirs --no-resave-data MetaVolcanoR StartedAt: 2023-10-15 19:22:32 -0400 (Sun, 15 Oct 2023) EndedAt: 2023-10-15 19:29:18 -0400 (Sun, 15 Oct 2023) EllapsedTime: 405.5 seconds RetCode: 0 Status: OK PackageFile: MetaVolcanoR_1.14.0.tar.gz PackageFileSize: 1.974 MiB