Package: MetaVolcanoR Version: 1.14.0 Command: rm -rf MetaVolcanoR.buildbin-libdir && mkdir MetaVolcanoR.buildbin-libdir && F:\biocbuild\bbs-3.17-bioc\R\bin\R.exe CMD INSTALL --build --library=MetaVolcanoR.buildbin-libdir MetaVolcanoR_1.14.0.tar.gz StartedAt: 2023-10-16 09:03:42 -0400 (Mon, 16 Oct 2023) EndedAt: 2023-10-16 09:03:55 -0400 (Mon, 16 Oct 2023) EllapsedTime: 13.3 seconds RetCode: 0 Status: OK PackageFile: MetaVolcanoR_1.14.0.zip PackageFileSize: 1.719 MiB