Package: MethPed Version: 1.28.0 Command: /Library/Frameworks/R.framework/Resources/bin/R CMD INSTALL MethPed StartedAt: 2023-10-15 15:58:11 -0400 (Sun, 15 Oct 2023) EndedAt: 2023-10-15 15:58:30 -0400 (Sun, 15 Oct 2023) EllapsedTime: 19.4 seconds RetCode: 0 Status: OK