Package: MethPed Version: 1.28.0 Command: /home/biocbuild/bbs-3.17-bioc/R/bin/R CMD check --install=check:MethPed.install-out.txt --library=/home/biocbuild/bbs-3.17-bioc/R/site-library --timings MethPed_1.28.0.tar.gz StartedAt: 2023-10-15 22:40:43 -0400 (Sun, 15 Oct 2023) EndedAt: 2023-10-15 22:45:13 -0400 (Sun, 15 Oct 2023) EllapsedTime: 270.0 seconds RetCode: 0 Status: OK CheckDir: MethPed.Rcheck Warnings: 0