Package: MethPed Version: 1.28.0 Command: F:\biocbuild\bbs-3.17-bioc\R\bin\R.exe CMD check --no-multiarch --install=check:MethPed.install-out.txt --library=F:\biocbuild\bbs-3.17-bioc\R\library --no-vignettes --timings MethPed_1.28.0.tar.gz StartedAt: 2023-10-16 03:55:39 -0400 (Mon, 16 Oct 2023) EndedAt: 2023-10-16 03:58:29 -0400 (Mon, 16 Oct 2023) EllapsedTime: 169.7 seconds RetCode: 0 Status: OK CheckDir: MethPed.Rcheck Warnings: 0