Package: MicrobiomeProfiler Version: 1.6.1 Command: rm -rf MicrobiomeProfiler.buildbin-libdir && mkdir MicrobiomeProfiler.buildbin-libdir && F:\biocbuild\bbs-3.17-bioc\R\bin\R.exe CMD INSTALL --build --library=MicrobiomeProfiler.buildbin-libdir MicrobiomeProfiler_1.6.1.tar.gz StartedAt: 2023-10-16 09:05:09 -0400 (Mon, 16 Oct 2023) EndedAt: 2023-10-16 09:05:39 -0400 (Mon, 16 Oct 2023) EllapsedTime: 30.0 seconds RetCode: 0 Status: OK PackageFile: MicrobiomeProfiler_1.6.1.zip PackageFileSize: 926.2 KiB