Package: MicrobiomeProfiler Version: 1.6.1 Command: F:\biocbuild\bbs-3.17-bioc\R\bin\R.exe CMD INSTALL MicrobiomeProfiler StartedAt: 2023-10-15 16:44:17 -0400 (Sun, 15 Oct 2023) EndedAt: 2023-10-15 16:44:47 -0400 (Sun, 15 Oct 2023) EllapsedTime: 30.4 seconds RetCode: 0 Status: OK