Package: MineICA Version: 1.40.0 Command: F:\biocbuild\bbs-3.17-bioc\R\bin\R.exe CMD check --no-multiarch --install=check:MineICA.install-out.txt --library=F:\biocbuild\bbs-3.17-bioc\R\library --no-vignettes --timings MineICA_1.40.0.tar.gz StartedAt: 2023-10-16 04:07:30 -0400 (Mon, 16 Oct 2023) EndedAt: 2023-10-16 04:12:12 -0400 (Mon, 16 Oct 2023) EllapsedTime: 282.3 seconds RetCode: 0 Status: WARNINGS CheckDir: MineICA.Rcheck Warnings: 3