Package: MsBackendMsp Version: 1.4.0 Command: /home/biocbuild/bbs-3.17-bioc/R/bin/R CMD check --install=check:MsBackendMsp.install-out.txt --library=/home/biocbuild/bbs-3.17-bioc/R/site-library --timings MsBackendMsp_1.4.0.tar.gz StartedAt: 2023-10-15 23:04:08 -0400 (Sun, 15 Oct 2023) EndedAt: 2023-10-15 23:05:27 -0400 (Sun, 15 Oct 2023) EllapsedTime: 78.7 seconds RetCode: 0 Status: OK CheckDir: MsBackendMsp.Rcheck Warnings: 0