Package: MsBackendMsp Version: 1.4.0 Command: /home/biocbuild/bbs-3.17-bioc/R/bin/R CMD INSTALL MsBackendMsp StartedAt: 2023-10-15 15:17:50 -0400 (Sun, 15 Oct 2023) EndedAt: 2023-10-15 15:18:00 -0400 (Sun, 15 Oct 2023) EllapsedTime: 9.6 seconds RetCode: 0 Status: OK