Package: MsBackendMsp Version: 1.4.0 Command: rm -rf MsBackendMsp.buildbin-libdir && mkdir MsBackendMsp.buildbin-libdir && F:\biocbuild\bbs-3.17-bioc\R\bin\R.exe CMD INSTALL --build --library=MsBackendMsp.buildbin-libdir MsBackendMsp_1.4.0.tar.gz StartedAt: 2023-10-16 09:07:46 -0400 (Mon, 16 Oct 2023) EndedAt: 2023-10-16 09:08:03 -0400 (Mon, 16 Oct 2023) EllapsedTime: 16.5 seconds RetCode: 0 Status: OK PackageFile: MsBackendMsp_1.4.0.zip PackageFileSize: 362.9 KiB