Package: MsBackendMsp Version: 1.4.0 Command: F:\biocbuild\bbs-3.17-bioc\R\bin\R.exe CMD check --no-multiarch --install=check:MsBackendMsp.install-out.txt --library=F:\biocbuild\bbs-3.17-bioc\R\library --no-vignettes --timings MsBackendMsp_1.4.0.tar.gz StartedAt: 2023-10-16 04:25:17 -0400 (Mon, 16 Oct 2023) EndedAt: 2023-10-16 04:27:05 -0400 (Mon, 16 Oct 2023) EllapsedTime: 108.2 seconds RetCode: 0 Status: OK CheckDir: MsBackendMsp.Rcheck Warnings: 0