Package: MsDataHub Version: 1.0.0 Command: /home/biocbuild/bbs-3.17-bioc/R/bin/R CMD check --install=check:MsDataHub.install-out.txt --library=/home/biocbuild/bbs-3.17-bioc/R/site-library --timings MsDataHub_1.0.0.tar.gz StartedAt: 2023-10-15 23:05:08 -0400 (Sun, 15 Oct 2023) EndedAt: 2023-10-15 23:08:21 -0400 (Sun, 15 Oct 2023) EllapsedTime: 192.8 seconds RetCode: 0 Status: OK CheckDir: MsDataHub.Rcheck Warnings: 0