Package: MsDataHub Version: 1.0.0 Command: rm -rf MsDataHub.buildbin-libdir && mkdir MsDataHub.buildbin-libdir && F:\biocbuild\bbs-3.17-bioc\R\bin\R.exe CMD INSTALL --build --library=MsDataHub.buildbin-libdir MsDataHub_1.0.0.tar.gz StartedAt: 2023-10-16 09:07:56 -0400 (Mon, 16 Oct 2023) EndedAt: 2023-10-16 09:08:20 -0400 (Mon, 16 Oct 2023) EllapsedTime: 23.2 seconds RetCode: 0 Status: OK PackageFile: MsDataHub_1.0.0.zip PackageFileSize: 383.9 KiB