Package: MsDataHub Version: 1.0.0 Command: chmod a+r MsDataHub -R && F:\biocbuild\bbs-3.17-bioc\R\bin\R.exe CMD build --keep-empty-dirs --no-resave-data MsDataHub StartedAt: 2023-10-15 20:39:25 -0400 (Sun, 15 Oct 2023) EndedAt: 2023-10-15 20:41:24 -0400 (Sun, 15 Oct 2023) EllapsedTime: 119.0 seconds RetCode: 0 Status: OK PackageFile: MsDataHub_1.0.0.tar.gz PackageFileSize: 365 KiB