Package: MsExperiment Version: 1.2.0 Command: /Library/Frameworks/R.framework/Resources/bin/R CMD build --keep-empty-dirs --no-resave-data MsExperiment StartedAt: 2023-10-15 19:41:36 -0400 (Sun, 15 Oct 2023) EndedAt: 2023-10-15 19:56:31 -0400 (Sun, 15 Oct 2023) EllapsedTime: 895.6 seconds RetCode: 1 Status: ERROR PackageFile: None PackageFileSize: NA