Package: MsExperiment Version: 1.2.0 Command: F:\biocbuild\bbs-3.17-bioc\R\bin\R.exe CMD check --no-multiarch --install=check:MsExperiment.install-out.txt --library=F:\biocbuild\bbs-3.17-bioc\R\library --no-vignettes --timings MsExperiment_1.2.0.tar.gz StartedAt: 2023-10-14 04:43:49 -0400 (Sat, 14 Oct 2023) EndedAt: 2023-10-14 04:47:46 -0400 (Sat, 14 Oct 2023) EllapsedTime: 237.2 seconds RetCode: 0 Status: OK CheckDir: MsExperiment.Rcheck Warnings: 0