Package: NADfinder Version: 1.24.0 Command: /Library/Frameworks/R.framework/Resources/bin/R CMD INSTALL NADfinder StartedAt: 2023-10-15 16:34:52 -0400 (Sun, 15 Oct 2023) EndedAt: 2023-10-15 16:36:50 -0400 (Sun, 15 Oct 2023) EllapsedTime: 117.9 seconds RetCode: 0 Status: OK