Package: NADfinder Version: 1.24.0 Command: /home/biocbuild/bbs-3.17-bioc/R/bin/R CMD build --keep-empty-dirs --no-resave-data NADfinder StartedAt: 2023-10-15 17:37:13 -0400 (Sun, 15 Oct 2023) EndedAt: 2023-10-15 17:40:14 -0400 (Sun, 15 Oct 2023) EllapsedTime: 181.3 seconds RetCode: 0 Status: OK PackageFile: NADfinder_1.24.0.tar.gz PackageFileSize: 5.945 MiB