Package: NOISeq Version: 2.44.0 Command: /home/biocbuild/bbs-3.17-bioc/R/bin/R CMD check --install=check:NOISeq.install-out.txt --library=/home/biocbuild/bbs-3.17-bioc/R/site-library --timings NOISeq_2.44.0.tar.gz StartedAt: 2023-10-15 23:19:59 -0400 (Sun, 15 Oct 2023) EndedAt: 2023-10-15 23:22:49 -0400 (Sun, 15 Oct 2023) EllapsedTime: 170.3 seconds RetCode: 0 Status: OK CheckDir: NOISeq.Rcheck Warnings: 0