Package: NOISeq Version: 2.44.0 Command: rm -rf NOISeq.buildbin-libdir && mkdir NOISeq.buildbin-libdir && F:\biocbuild\bbs-3.17-bioc\R\bin\R.exe CMD INSTALL --build --library=NOISeq.buildbin-libdir NOISeq_2.44.0.tar.gz StartedAt: 2023-10-16 09:11:20 -0400 (Mon, 16 Oct 2023) EndedAt: 2023-10-16 09:11:40 -0400 (Mon, 16 Oct 2023) EllapsedTime: 19.5 seconds RetCode: 0 Status: OK PackageFile: NOISeq_2.44.0.zip PackageFileSize: 2.264 MiB