Package: NanoStringDiff Version: 1.30.0 Command: rm -rf NanoStringDiff.buildbin-libdir && mkdir NanoStringDiff.buildbin-libdir && F:\biocbuild\bbs-3.17-bioc\R\bin\R.exe CMD INSTALL --build --library=NanoStringDiff.buildbin-libdir NanoStringDiff_1.30.0.tar.gz StartedAt: 2023-10-16 09:10:00 -0400 (Mon, 16 Oct 2023) EndedAt: 2023-10-16 09:10:25 -0400 (Mon, 16 Oct 2023) EllapsedTime: 25.2 seconds RetCode: 0 Status: OK PackageFile: NanoStringDiff_1.30.0.zip PackageFileSize: 660.8 KiB