Package: NanoStringDiff Version: 1.30.0 Command: chmod a+r NanoStringDiff -R && F:\biocbuild\bbs-3.17-bioc\R\bin\R.exe CMD build --keep-empty-dirs --no-resave-data NanoStringDiff StartedAt: 2023-10-15 20:47:45 -0400 (Sun, 15 Oct 2023) EndedAt: 2023-10-15 20:48:19 -0400 (Sun, 15 Oct 2023) EllapsedTime: 34.2 seconds RetCode: 0 Status: OK PackageFile: NanoStringDiff_1.30.0.tar.gz PackageFileSize: 280.1 KiB