Package: NanoStringNCTools Version: 1.8.0 Command: rm -rf NanoStringNCTools.buildbin-libdir && mkdir NanoStringNCTools.buildbin-libdir && /Users/biocbuild/BBS/utils/build-universal.sh NanoStringNCTools_1.8.0.tar.gz /Library/Frameworks/R.framework/Resources/bin/R NanoStringNCTools.buildbin-libdir StartedAt: 2023-10-16 09:49:02 -0400 (Mon, 16 Oct 2023) EndedAt: 2023-10-16 09:50:04 -0400 (Mon, 16 Oct 2023) EllapsedTime: 61.7 seconds RetCode: 0 Status: OK PackageFile: NanoStringNCTools_1.8.0.tgz PackageFileSize: 936.4 KiB