Package: NanoStringQCPro Version: 1.32.0 Command: /home/biocbuild/bbs-3.17-bioc/R/bin/R CMD build --keep-empty-dirs --no-resave-data NanoStringQCPro StartedAt: 2023-10-15 17:37:57 -0400 (Sun, 15 Oct 2023) EndedAt: 2023-10-15 17:37:59 -0400 (Sun, 15 Oct 2023) EllapsedTime: 1.6 seconds RetCode: 0 Status: OK PackageFile: NanoStringQCPro_1.32.0.tar.gz PackageFileSize: 247.1 KiB