Package: NanoStringQCPro Version: 1.32.0 Command: rm -rf NanoStringQCPro.buildbin-libdir && mkdir NanoStringQCPro.buildbin-libdir && F:\biocbuild\bbs-3.17-bioc\R\bin\R.exe CMD INSTALL --build --library=NanoStringQCPro.buildbin-libdir NanoStringQCPro_1.32.0.tar.gz StartedAt: 2023-10-16 09:10:06 -0400 (Mon, 16 Oct 2023) EndedAt: 2023-10-16 09:10:41 -0400 (Mon, 16 Oct 2023) EllapsedTime: 35.4 seconds RetCode: 0 Status: OK PackageFile: NanoStringQCPro_1.32.0.zip PackageFileSize: 482.6 KiB