Package: NanoStringQCPro Version: 1.32.0 Command: chmod a+r NanoStringQCPro -R && F:\biocbuild\bbs-3.17-bioc\R\bin\R.exe CMD build --keep-empty-dirs --no-resave-data NanoStringQCPro StartedAt: 2023-10-15 20:48:11 -0400 (Sun, 15 Oct 2023) EndedAt: 2023-10-15 20:48:18 -0400 (Sun, 15 Oct 2023) EllapsedTime: 6.9 seconds RetCode: 0 Status: OK PackageFile: NanoStringQCPro_1.32.0.tar.gz PackageFileSize: 247.1 KiB