Package: NeighborNet Version: 1.18.0 Command: rm -rf NeighborNet.buildbin-libdir && mkdir NeighborNet.buildbin-libdir && F:\biocbuild\bbs-3.17-bioc\R\bin\R.exe CMD INSTALL --build --library=NeighborNet.buildbin-libdir NeighborNet_1.18.0.tar.gz StartedAt: 2023-10-16 09:10:40 -0400 (Mon, 16 Oct 2023) EndedAt: 2023-10-16 09:10:49 -0400 (Mon, 16 Oct 2023) EllapsedTime: 9.7 seconds RetCode: 0 Status: OK PackageFile: NeighborNet_1.18.0.zip PackageFileSize: 3.542 MiB