Package: NeighborNet Version: 1.18.0 Command: chmod a+r NeighborNet -R && F:\biocbuild\bbs-3.17-bioc\R\bin\R.exe CMD build --keep-empty-dirs --no-resave-data NeighborNet StartedAt: 2023-10-15 20:49:41 -0400 (Sun, 15 Oct 2023) EndedAt: 2023-10-15 20:50:01 -0400 (Sun, 15 Oct 2023) EllapsedTime: 20.1 seconds RetCode: 0 Status: OK PackageFile: NeighborNet_1.18.0.tar.gz PackageFileSize: 3.565 MiB