Package: NetPathMiner Version: 1.36.0 Command: chmod a+r NetPathMiner -R && F:\biocbuild\bbs-3.17-bioc\R\bin\R.exe CMD build --keep-empty-dirs --no-resave-data NetPathMiner StartedAt: 2023-10-15 20:51:00 -0400 (Sun, 15 Oct 2023) EndedAt: 2023-10-15 20:52:08 -0400 (Sun, 15 Oct 2023) EllapsedTime: 68.2 seconds RetCode: 0 Status: OK PackageFile: NetPathMiner_1.36.0.tar.gz PackageFileSize: 1.853 MiB