Package: NeuCA Version: 1.6.0 Command: /Library/Frameworks/R.framework/Resources/bin/R CMD INSTALL NeuCA StartedAt: 2023-10-15 15:16:48 -0400 (Sun, 15 Oct 2023) EndedAt: 2023-10-15 15:18:02 -0400 (Sun, 15 Oct 2023) EllapsedTime: 73.8 seconds RetCode: 0 Status: OK