Package: NuPoP Version: 2.8.1 Command: rm -rf NuPoP.buildbin-libdir && mkdir NuPoP.buildbin-libdir && /Users/biocbuild/BBS/utils/build-universal.sh NuPoP_2.8.1.tar.gz /Library/Frameworks/R.framework/Resources/bin/R NuPoP.buildbin-libdir StartedAt: 2023-10-16 09:51:05 -0400 (Mon, 16 Oct 2023) EndedAt: 2023-10-16 09:51:59 -0400 (Mon, 16 Oct 2023) EllapsedTime: 53.8 seconds RetCode: 0 Status: OK PackageFile: NuPoP_2.8.1.tgz PackageFileSize: 4.387 MiB