Package: OLIN Version: 1.78.0 Command: /Library/Frameworks/R.framework/Resources/bin/R CMD build --keep-empty-dirs --no-resave-data OLIN StartedAt: 2023-10-15 19:58:24 -0400 (Sun, 15 Oct 2023) EndedAt: 2023-10-15 19:59:49 -0400 (Sun, 15 Oct 2023) EllapsedTime: 84.2 seconds RetCode: 0 Status: OK PackageFile: OLIN_1.78.0.tar.gz PackageFileSize: 2.557 MiB