Package: OLIN Version: 1.78.0 Command: /Library/Frameworks/R.framework/Resources/bin/R CMD check --install=check:OLIN.install-out.txt --library=/Library/Frameworks/R.framework/Resources/library --no-vignettes --timings OLIN_1.78.0.tar.gz StartedAt: 2023-10-16 04:45:50 -0400 (Mon, 16 Oct 2023) EndedAt: 2023-10-16 04:47:59 -0400 (Mon, 16 Oct 2023) EllapsedTime: 128.2 seconds RetCode: 0 Status: OK CheckDir: OLIN.Rcheck Warnings: 0