Package: OLIN Version: 1.78.0 Command: /home/biocbuild/bbs-3.17-bioc/R/bin/R CMD build --keep-empty-dirs --no-resave-data OLIN StartedAt: 2023-10-15 17:43:15 -0400 (Sun, 15 Oct 2023) EndedAt: 2023-10-15 17:43:51 -0400 (Sun, 15 Oct 2023) EllapsedTime: 36.2 seconds RetCode: 0 Status: OK PackageFile: OLIN_1.78.0.tar.gz PackageFileSize: 2.416 MiB