Package: OLIN Version: 1.78.0 Command: F:\biocbuild\bbs-3.17-bioc\R\bin\R.exe CMD check --no-multiarch --install=check:OLIN.install-out.txt --library=F:\biocbuild\bbs-3.17-bioc\R\library --no-vignettes --timings OLIN_1.78.0.tar.gz StartedAt: 2023-10-16 04:52:52 -0400 (Mon, 16 Oct 2023) EndedAt: 2023-10-16 04:53:49 -0400 (Mon, 16 Oct 2023) EllapsedTime: 56.8 seconds RetCode: 0 Status: OK CheckDir: OLIN.Rcheck Warnings: 0