Package: ORFhunteR Version: 1.8.0 Command: F:\biocbuild\bbs-3.17-bioc\R\bin\R.exe CMD INSTALL ORFhunteR StartedAt: 2023-10-15 16:14:20 -0400 (Sun, 15 Oct 2023) EndedAt: 2023-10-15 16:15:34 -0400 (Sun, 15 Oct 2023) EllapsedTime: 73.5 seconds RetCode: 0 Status: OK