Package: Omixer Version: 1.10.0 Command: rm -rf Omixer.buildbin-libdir && mkdir Omixer.buildbin-libdir && F:\biocbuild\bbs-3.17-bioc\R\bin\R.exe CMD INSTALL --build --library=Omixer.buildbin-libdir Omixer_1.10.0.tar.gz StartedAt: 2023-10-16 09:12:33 -0400 (Mon, 16 Oct 2023) EndedAt: 2023-10-16 09:12:43 -0400 (Mon, 16 Oct 2023) EllapsedTime: 10.2 seconds RetCode: 0 Status: OK PackageFile: Omixer_1.10.0.zip PackageFileSize: 949.3 KiB