Package: Omixer Version: 1.10.0 Command: chmod a+r Omixer -R && F:\biocbuild\bbs-3.17-bioc\R\bin\R.exe CMD build --keep-empty-dirs --no-resave-data Omixer StartedAt: 2023-10-15 20:58:32 -0400 (Sun, 15 Oct 2023) EndedAt: 2023-10-15 21:00:07 -0400 (Sun, 15 Oct 2023) EllapsedTime: 94.8 seconds RetCode: 0 Status: OK PackageFile: Omixer_1.10.0.tar.gz PackageFileSize: 1.277 MiB