Package: OmnipathR Version: 3.8.2 Command: rm -rf OmnipathR.buildbin-libdir && mkdir OmnipathR.buildbin-libdir && F:\biocbuild\bbs-3.17-bioc\R\bin\R.exe CMD INSTALL --build --library=OmnipathR.buildbin-libdir OmnipathR_3.8.2.tar.gz StartedAt: 2023-10-16 09:12:34 -0400 (Mon, 16 Oct 2023) EndedAt: 2023-10-16 09:13:14 -0400 (Mon, 16 Oct 2023) EllapsedTime: 39.7 seconds RetCode: 0 Status: OK PackageFile: OmnipathR_3.8.2.zip PackageFileSize: 2.808 MiB