Package: OrderedList Version: 1.72.0 Command: F:\biocbuild\bbs-3.17-bioc\R\bin\R.exe CMD INSTALL OrderedList StartedAt: 2023-10-15 15:50:57 -0400 (Sun, 15 Oct 2023) EndedAt: 2023-10-15 15:51:04 -0400 (Sun, 15 Oct 2023) EllapsedTime: 7.7 seconds RetCode: 0 Status: OK