Package: PADOG Version: 1.42.0 Command: /home/biocbuild/bbs-3.17-bioc/R/bin/R CMD build --keep-empty-dirs --no-resave-data PADOG StartedAt: 2023-10-15 17:49:38 -0400 (Sun, 15 Oct 2023) EndedAt: 2023-10-15 17:54:45 -0400 (Sun, 15 Oct 2023) EllapsedTime: 306.9 seconds RetCode: 0 Status: OK PackageFile: PADOG_1.42.0.tar.gz PackageFileSize: 233.5 KiB