Package: PERFect Version: 1.14.0 Command: chmod a+r PERFect -R && F:\biocbuild\bbs-3.17-bioc\R\bin\R.exe CMD build --keep-empty-dirs --no-resave-data PERFect StartedAt: 2023-10-15 21:18:15 -0400 (Sun, 15 Oct 2023) EndedAt: 2023-10-15 21:23:31 -0400 (Sun, 15 Oct 2023) EllapsedTime: 315.8 seconds RetCode: 0 Status: OK PackageFile: PERFect_1.14.0.tar.gz PackageFileSize: 599.6 KiB