Package: PFP Version: 1.8.0 Command: /Library/Frameworks/R.framework/Resources/bin/R CMD build --keep-empty-dirs --no-resave-data PFP StartedAt: 2023-10-15 20:14:44 -0400 (Sun, 15 Oct 2023) EndedAt: 2023-10-15 20:17:34 -0400 (Sun, 15 Oct 2023) EllapsedTime: 169.9 seconds RetCode: 1 Status: ERROR PackageFile: None PackageFileSize: NA