Package: PFP Version: 1.7.0 Command: rm -rf PFP.buildbin-libdir && mkdir PFP.buildbin-libdir && F:\biocbuild\bbs-3.17-bioc\R\bin\R.exe CMD INSTALL --build --library=PFP.buildbin-libdir PFP_1.7.0.tar.gz StartedAt: 2023-03-16 08:42:59 -0400 (Thu, 16 Mar 2023) EndedAt: 2023-03-16 08:43:39 -0400 (Thu, 16 Mar 2023) EllapsedTime: 39.8 seconds RetCode: 0 Status: OK PackageFile: PFP_1.7.0.zip PackageFileSize: 1.317 MiB