Package: PFP Version: 1.8.0 Command: chmod a+r PFP -R && F:\biocbuild\bbs-3.17-bioc\R\bin\R.exe CMD build --keep-empty-dirs --no-resave-data PFP StartedAt: 2023-10-15 21:18:23 -0400 (Sun, 15 Oct 2023) EndedAt: 2023-10-15 21:19:25 -0400 (Sun, 15 Oct 2023) EllapsedTime: 61.1 seconds RetCode: 1 Status: ERROR PackageFile: None PackageFileSize: NA