Package: PanomiR Version: 1.4.0 Command: /home/biocbuild/bbs-3.17-bioc/R/bin/R CMD build --keep-empty-dirs --no-resave-data PanomiR StartedAt: 2023-10-15 17:52:01 -0400 (Sun, 15 Oct 2023) EndedAt: 2023-10-15 17:53:31 -0400 (Sun, 15 Oct 2023) EllapsedTime: 90.0 seconds RetCode: 0 Status: OK PackageFile: PanomiR_1.4.0.tar.gz PackageFileSize: 1.98 MiB