Package: PanomiR Version: 1.4.0 Command: /home/biocbuild/bbs-3.17-bioc/R/bin/R CMD check --install=check:PanomiR.install-out.txt --library=/home/biocbuild/bbs-3.17-bioc/R/site-library --timings PanomiR_1.4.0.tar.gz StartedAt: 2023-10-15 23:40:14 -0400 (Sun, 15 Oct 2023) EndedAt: 2023-10-15 23:43:13 -0400 (Sun, 15 Oct 2023) EllapsedTime: 179.1 seconds RetCode: 0 Status: OK CheckDir: PanomiR.Rcheck Warnings: 0