Package: PathoStat Version: 1.26.0 Command: /home/biocbuild/bbs-3.17-bioc/R/bin/R CMD build --keep-empty-dirs --no-resave-data PathoStat StartedAt: 2023-10-15 17:53:34 -0400 (Sun, 15 Oct 2023) EndedAt: 2023-10-15 17:54:43 -0400 (Sun, 15 Oct 2023) EllapsedTime: 68.7 seconds RetCode: 0 Status: OK PackageFile: PathoStat_1.26.0.tar.gz PackageFileSize: 947.9 KiB