Package: PathoStat Version: 1.26.0 Command: /home/biocbuild/bbs-3.17-bioc/R/bin/R CMD check --install=check:PathoStat.install-out.txt --library=/home/biocbuild/bbs-3.17-bioc/R/site-library --timings PathoStat_1.26.0.tar.gz StartedAt: 2023-10-15 23:43:36 -0400 (Sun, 15 Oct 2023) EndedAt: 2023-10-15 23:50:53 -0400 (Sun, 15 Oct 2023) EllapsedTime: 436.9 seconds RetCode: 0 Status: OK CheckDir: PathoStat.Rcheck Warnings: 0